BEGIN:VCALENDAR
VERSION:2.0
PRODID:-//서울대학교 아시아연구소
CALSCALE:GREGORIAN
METHOD:PUBLISH
X-WR-CALNAME:서울대학교 아시아연구소
X-ORIGINAL-URL:https://snuac.snu.ac.kr/?u_event=from-globalizing-taipei-to-learning-amsterdam-referencing-as-a-politicizing-strategy-for-urban-development-in-taiwan
X-WR-CALDESC:From Globalizing Taipei to Learning Amsterdam: Referencing as a politicizing strategy for urban development in Taiwan
BEGIN:VEVENT
DTSTART:20240617T120000
DTEND:20240617T130000
SUMMARY:From Globalizing Taipei to Learning Amsterdam: Referencing as a politicizing strategy for urban development in Taiwan
DESCRIPTION:일시: 2024년 6월 17일(월) 12:00 ~ 13:00 
장소: 서울대학교 아시아연구소 304호
LOCATION:서울대학교 아시아연구소 304호
END:VEVENT
END:VCALENDAR
