BEGIN:VCALENDAR
VERSION:2.0
PRODID:-//서울대학교 아시아연구소
CALSCALE:GREGORIAN
METHOD:PUBLISH
X-WR-CALNAME:서울대학교 아시아연구소
X-ORIGINAL-URL:https://snuac.snu.ac.kr/?u_event=vegan-communities-within-complex-systems
X-WR-CALDESC:Vegan Communities within Complex Systems
BEGIN:VEVENT
DTSTART:20231127T160000
DTEND:20231127T170000
SUMMARY:Vegan Communities within Complex Systems
DESCRIPTION:일시: 2023년 11월 27일(화) 16:00-17:00
(Zoom Link: https://snu-ac-kr.zoom.us/meeting/register/tJYlfuGrqjkpGtPPYtrFKgfuOmZX3l-3FHqD)
LOCATION:ZOOM 온라인 진행
END:VEVENT
END:VCALENDAR
