BEGIN:VCALENDAR
VERSION:2.0
PRODID:-//서울대학교 아시아연구소
CALSCALE:GREGORIAN
METHOD:PUBLISH
X-WR-CALNAME:서울대학교 아시아연구소
X-ORIGINAL-URL:https://snuac.snu.ac.kr/?u_event=%eb%a9%94%ec%bd%a9%ec%a7%80%ec%97%ad-%ec%a4%91%ec%86%8c%ec%a4%91%ea%b2%ac%ea%b8%b0%ec%97%85-%ec%9c%a1%ec%84%b1%ec%a7%80%ec%9b%90%ea%b3%bc-%ec%83%81%ed%98%b8%ec%a7%84%ec%b6%9c%ec%9d%84-%ec%9c%84
X-WR-CALDESC:메콩지역 중소중견기업 육성지원과 상호진출을 위한 교류협력 플랫폼 구축
BEGIN:VEVENT
DTSTART:20191002T100000
DTEND:20191002T180000
SUMMARY:메콩지역 중소중견기업 육성지원과 상호진출을 위한 교류협력 플랫폼 구축
DESCRIPTION:일시: 2019. 10. 2(수) 10:00- 18:00 
장소: 서울대학교 아시아연구소 영원홀
LOCATION:아시아연구소 영원홀 (210호)
END:VEVENT
END:VCALENDAR
